BEGIN:VCALENDAR
VERSION:2.0
PRODID:-//Foxdale Village - ECPv6.15.9//NONSGML v1.0//EN
CALSCALE:GREGORIAN
METHOD:PUBLISH
X-WR-CALNAME:Foxdale Village
X-ORIGINAL-URL:https://www.foxdalevillage.org
X-WR-CALDESC:Events for Foxdale Village
REFRESH-INTERVAL;VALUE=DURATION:PT1H
X-Robots-Tag:noindex
X-PUBLISHED-TTL:PT1H
BEGIN:VTIMEZONE
TZID:America/New_York
BEGIN:DAYLIGHT
TZOFFSETFROM:-0500
TZOFFSETTO:-0400
TZNAME:EDT
DTSTART:20230312T070000
END:DAYLIGHT
BEGIN:STANDARD
TZOFFSETFROM:-0400
TZOFFSETTO:-0500
TZNAME:EST
DTSTART:20231105T060000
END:STANDARD
BEGIN:DAYLIGHT
TZOFFSETFROM:-0500
TZOFFSETTO:-0400
TZNAME:EDT
DTSTART:20240310T070000
END:DAYLIGHT
BEGIN:STANDARD
TZOFFSETFROM:-0400
TZOFFSETTO:-0500
TZNAME:EST
DTSTART:20241103T060000
END:STANDARD
BEGIN:DAYLIGHT
TZOFFSETFROM:-0500
TZOFFSETTO:-0400
TZNAME:EDT
DTSTART:20250309T070000
END:DAYLIGHT
BEGIN:STANDARD
TZOFFSETFROM:-0400
TZOFFSETTO:-0500
TZNAME:EST
DTSTART:20251102T060000
END:STANDARD
END:VTIMEZONE
BEGIN:VEVENT
DTSTART;TZID=America/New_York:20240112T080000
DTEND;TZID=America/New_York:20240305T170000
DTSTAMP:20260425T140356
CREATED:20240112T141020Z
LAST-MODIFIED:20240112T141253Z
UID:1198-1705046400-1709658000@www.foxdalevillage.org
SUMMARY:Art Sisters Acrylic Show
DESCRIPTION:Foxdale Village welcomes the Art Sisters to its second-floor gallery. This show will include acrylic and mixed media paintings by Mary Deutsch\, Jean Giddings\, Jerry Gorki\, Susan Graham\, Mary Shay McGuire\, Wendy Snetsinger\, Marica Tacconi and Deena Ultman. The show and reception are free and open to the public.  \n\n\n\n\n\n\n\n\n\n\n\n\n\n\n\n\n\n\n\n\n\nVisiting hours are from 8:00am – 5:00pm weekdays and from noon until 4:00pm on weekends\, January 12 – March 5\, 2024. The opening reception will be held on Sunday\, January 14 from 3:30 – 5:00pm. \n\n\n\nFor further information please call the reception desk at 814-238-3322.
URL:https://www.foxdalevillage.org/event/art-sisters-acrylic-show/
LOCATION:Foxdale Village Second-Floor Gallery\, 500 East Marylyn Avenue\, State College\, Pennsylvania\, 16801\, United States
ATTACH;FMTTYPE=image/jpeg:https://www.foxdalevillage.org/wp-content/uploads/2024/01/Tacconi-Painting-scaled.jpg
END:VEVENT
END:VCALENDAR