BEGIN:VCALENDAR
VERSION:2.0
PRODID:-//Foxdale Village - ECPv6.15.9//NONSGML v1.0//EN
CALSCALE:GREGORIAN
METHOD:PUBLISH
X-WR-CALNAME:Foxdale Village
X-ORIGINAL-URL:https://www.foxdalevillage.org
X-WR-CALDESC:Events for Foxdale Village
REFRESH-INTERVAL;VALUE=DURATION:PT1H
X-Robots-Tag:noindex
X-PUBLISHED-TTL:PT1H
BEGIN:VTIMEZONE
TZID:America/New_York
BEGIN:DAYLIGHT
TZOFFSETFROM:-0500
TZOFFSETTO:-0400
TZNAME:EDT
DTSTART:20230312T070000
END:DAYLIGHT
BEGIN:STANDARD
TZOFFSETFROM:-0400
TZOFFSETTO:-0500
TZNAME:EST
DTSTART:20231105T060000
END:STANDARD
BEGIN:DAYLIGHT
TZOFFSETFROM:-0500
TZOFFSETTO:-0400
TZNAME:EDT
DTSTART:20240310T070000
END:DAYLIGHT
BEGIN:STANDARD
TZOFFSETFROM:-0400
TZOFFSETTO:-0500
TZNAME:EST
DTSTART:20241103T060000
END:STANDARD
BEGIN:DAYLIGHT
TZOFFSETFROM:-0500
TZOFFSETTO:-0400
TZNAME:EDT
DTSTART:20250309T070000
END:DAYLIGHT
BEGIN:STANDARD
TZOFFSETFROM:-0400
TZOFFSETTO:-0500
TZNAME:EST
DTSTART:20251102T060000
END:STANDARD
END:VTIMEZONE
BEGIN:VEVENT
DTSTART;TZID=America/New_York:20241018T190000
DTEND;TZID=America/New_York:20241018T220000
DTSTAMP:20260425T085533
CREATED:20241002T140605Z
LAST-MODIFIED:20241002T140740Z
UID:1341-1729278000-1729288800@www.foxdalevillage.org
SUMMARY:On the Basis of Sex (2018) - Multicultural Film Festival
DESCRIPTION:An American biographical film that chronicles the early career and pivotal cases of Ruth Bader Ginsburg\, the second woman to serve as an Associate Justice on the United States Supreme Court. The film portrays her life before that historic appointment. Although not a documentary\, Ginsburg herself affirmed its accuracy\, reflecting her famous words: “Whatever you choose to do\, leave tracks. That means don’t do it just for yourself. (2 hrs.\, PG-13) \n\n\n\nThe Multicultural Film Festival is free and open to the public.
URL:https://www.foxdalevillage.org/event/on-the-basis-of-sex-2018-multicultural-film-festival/
LOCATION:Community Center\, Auditorium\, 500 E Marylyn Ave\, State College\, Pennsylvania\, 16801
CATEGORIES:2023 Multicultural Film Festival
ATTACH;FMTTYPE=image/jpeg:https://www.foxdalevillage.org/wp-content/uploads/2024/10/On-the-Basis-of-Sex.jpg
END:VEVENT
END:VCALENDAR