BEGIN:VCALENDAR
VERSION:2.0
PRODID:-//Foxdale Village - ECPv6.15.9//NONSGML v1.0//EN
CALSCALE:GREGORIAN
METHOD:PUBLISH
X-ORIGINAL-URL:https://www.foxdalevillage.org
X-WR-CALDESC:Events for Foxdale Village
REFRESH-INTERVAL;VALUE=DURATION:PT1H
X-Robots-Tag:noindex
X-PUBLISHED-TTL:PT1H
BEGIN:VTIMEZONE
TZID:America/New_York
BEGIN:DAYLIGHT
TZOFFSETFROM:-0500
TZOFFSETTO:-0400
TZNAME:EDT
DTSTART:20230312T070000
END:DAYLIGHT
BEGIN:STANDARD
TZOFFSETFROM:-0400
TZOFFSETTO:-0500
TZNAME:EST
DTSTART:20231105T060000
END:STANDARD
BEGIN:DAYLIGHT
TZOFFSETFROM:-0500
TZOFFSETTO:-0400
TZNAME:EDT
DTSTART:20240310T070000
END:DAYLIGHT
BEGIN:STANDARD
TZOFFSETFROM:-0400
TZOFFSETTO:-0500
TZNAME:EST
DTSTART:20241103T060000
END:STANDARD
BEGIN:DAYLIGHT
TZOFFSETFROM:-0500
TZOFFSETTO:-0400
TZNAME:EDT
DTSTART:20250309T070000
END:DAYLIGHT
BEGIN:STANDARD
TZOFFSETFROM:-0400
TZOFFSETTO:-0500
TZNAME:EST
DTSTART:20251102T060000
END:STANDARD
END:VTIMEZONE
BEGIN:VEVENT
DTSTART;TZID=America/New_York:20240112T080000
DTEND;TZID=America/New_York:20240305T170000
DTSTAMP:20260425T140509
CREATED:20240112T141020Z
LAST-MODIFIED:20240112T141253Z
UID:1198-1705046400-1709658000@www.foxdalevillage.org
SUMMARY:Art Sisters Acrylic Show
DESCRIPTION:Foxdale Village welcomes the Art Sisters to its second-floor gallery. This show will include acrylic and mixed media paintings by Mary Deutsch\, Jean Giddings\, Jerry Gorki\, Susan Graham\, Mary Shay McGuire\, Wendy Snetsinger\, Marica Tacconi and Deena Ultman. The show and reception are free and open to the public.  \n\n\n\n\n\n\n\n\n\n\n\n\n\n\n\n\n\n\n\n\n\nVisiting hours are from 8:00am – 5:00pm weekdays and from noon until 4:00pm on weekends\, January 12 – March 5\, 2024. The opening reception will be held on Sunday\, January 14 from 3:30 – 5:00pm. \n\n\n\nFor further information please call the reception desk at 814-238-3322.
URL:https://www.foxdalevillage.org/event/art-sisters-acrylic-show/
LOCATION:Foxdale Village Second-Floor Gallery\, 500 East Marylyn Avenue\, State College\, Pennsylvania\, 16801\, United States
ATTACH;FMTTYPE=image/jpeg:https://www.foxdalevillage.org/wp-content/uploads/2024/01/Tacconi-Painting-scaled.jpg
END:VEVENT
BEGIN:VEVENT
DTSTART;TZID=America/New_York:20240301T190000
DTEND;TZID=America/New_York:20240301T220000
DTSTAMP:20260425T140509
CREATED:20240208T212804Z
LAST-MODIFIED:20240208T212805Z
UID:1213-1709319600-1709330400@www.foxdalevillage.org
SUMMARY:Barbie (2023) - Multicultural Film Festival
DESCRIPTION:Stereotypical Barbie suffers an existential crisis and ventures into the real world. Along the way she learns life lessons about self-esteem\, the dangers of traditional gender roles\, and the value of uniqueness. It’s an unexpected\, surprising\, and clever approach\, not the Barbie and Ken you’ve always known. (The discussion following the film is one you won’t want to miss.) (1 hr. 54 min.\, PG-13)
URL:https://www.foxdalevillage.org/event/barbie-2023-multicultural-film-festival/
LOCATION:Community Center\, Auditorium\, 500 E Marylyn Ave\, State College\, Pennsylvania\, 16801
CATEGORIES:2023 Multicultural Film Festival
ATTACH;FMTTYPE=image/jpeg:https://www.foxdalevillage.org/wp-content/uploads/2024/02/Barbie.jpg
END:VEVENT
BEGIN:VEVENT
DTSTART;TZID=America/New_York:20240308T190000
DTEND;TZID=America/New_York:20240308T220000
DTSTAMP:20260425T140509
CREATED:20240208T212825Z
LAST-MODIFIED:20240208T212826Z
UID:1215-1709924400-1709935200@www.foxdalevillage.org
SUMMARY:The Color Purple (2023) - Multicultural Film Festival
DESCRIPTION:An enduring tale of one woman’s journey from an abusive relationship to the extraordinary strength and hope found in the unbreakable bonds of sisterhood. This rendition is based on the Tony Award-winning\, critically acclaimed musical. (2 hrs. 21 min.\, PG-13)
URL:https://www.foxdalevillage.org/event/the-color-purple-2023-multicultural-film-festival/
LOCATION:Community Center\, Auditorium\, 500 E Marylyn Ave\, State College\, Pennsylvania\, 16801
CATEGORIES:2023 Multicultural Film Festival
ATTACH;FMTTYPE=image/jpeg:https://www.foxdalevillage.org/wp-content/uploads/2024/02/The-Color-Purple.jpg
END:VEVENT
BEGIN:VEVENT
DTSTART;TZID=America/New_York:20240316T100000
DTEND;TZID=America/New_York:20240316T113000
DTSTAMP:20260425T140509
CREATED:20240213T205204Z
LAST-MODIFIED:20240213T205205Z
UID:1223-1710583200-1710588600@www.foxdalevillage.org
SUMMARY:Financial Chat
DESCRIPTION:An informative presentation about the financial benefits and nuances of living in a continuing care retirement community. Presented by Deb Shughart\, Chief Financial Officer for Foxdale Village.
URL:https://www.foxdalevillage.org/event/financial-chat-3/
LOCATION:Apartment Building Living Room\, 500 E Marylyn Ave\, State College\, Pennsylvania\, 16801
ATTACH;FMTTYPE=image/jpeg:https://www.foxdalevillage.org/wp-content/uploads/2023/10/Doris-and-Glen-2-Copy-18693-scaled.jpg
END:VEVENT
END:VCALENDAR